BEGIN:VCALENDAR
VERSION:2.0
PRODID:-//Lokala Hyresgästföreningen Långströmsgatan - ECPv6.15.17.1//NONSGML v1.0//EN
CALSCALE:GREGORIAN
METHOD:PUBLISH
X-ORIGINAL-URL:https://hgflangen.se
X-WR-CALDESC:Händelser för Lokala Hyresgästföreningen Långströmsgatan
REFRESH-INTERVAL;VALUE=DURATION:PT1H
X-Robots-Tag:noindex
X-PUBLISHED-TTL:PT1H
BEGIN:VTIMEZONE
TZID:Europe/Paris
BEGIN:DAYLIGHT
TZOFFSETFROM:+0100
TZOFFSETTO:+0200
TZNAME:CEST
DTSTART:20250330T010000
END:DAYLIGHT
BEGIN:STANDARD
TZOFFSETFROM:+0200
TZOFFSETTO:+0100
TZNAME:CET
DTSTART:20251026T010000
END:STANDARD
BEGIN:DAYLIGHT
TZOFFSETFROM:+0100
TZOFFSETTO:+0200
TZNAME:CEST
DTSTART:20260329T010000
END:DAYLIGHT
BEGIN:STANDARD
TZOFFSETFROM:+0200
TZOFFSETTO:+0100
TZNAME:CET
DTSTART:20261025T010000
END:STANDARD
BEGIN:DAYLIGHT
TZOFFSETFROM:+0100
TZOFFSETTO:+0200
TZNAME:CEST
DTSTART:20270328T010000
END:DAYLIGHT
BEGIN:STANDARD
TZOFFSETFROM:+0200
TZOFFSETTO:+0100
TZNAME:CET
DTSTART:20271031T010000
END:STANDARD
END:VTIMEZONE
BEGIN:VEVENT
DTSTART;TZID=Europe/Paris:20260512T163000
DTEND;TZID=Europe/Paris:20260512T180000
DTSTAMP:20260422T121524
CREATED:20260414T060307Z
LAST-MODIFIED:20260420T101141Z
UID:1265-1778603400-1778608800@hgflangen.se
SUMMARY:🌊 DAGS FÖR ÄVENTYR MED OCEANBUS! 🌊
DESCRIPTION:Är du redo för en tur som går från asfalt till vågor? Nu bjuder vi in alla Balders hyresgäster på Långströmsgatan till en fartfylld tur med Oceanbus den 12 maj! \n\n\n\nNÄR: Tisdag 12 maj 2026 \n\n\n\nSAMLING: Kl. 16.30 vid Stora Teatern (Bussen avgår kl. 17.00) \n\n\n\nPRIS: 150 kr/person (samma pris för alla åldrar) \n\n\n\n📍 HUR ANMÄLER JAG MIG?  \n\n\n\nAnmälan sker personligen i lokalen på följande tider: \n\n\n\n\nOnsdag 15/4 kl. 18.00–20.00\n\n\n\nMåndag 20/4 kl. 18.00–20.00\n\n\n\n\nVi ses där! 🚌⚓️
URL:https://hgflangen.se/evenemang/%f0%9f%8c%8a-dags-for-aventyr-med-oceanbus-%f0%9f%8c%8a/
LOCATION:Stora Teatern\, Kungsparken 1\, Göteborg\, 411 36\, Sweden
ATTACH;FMTTYPE=image/png:https://hgflangen.se/wp-content/uploads/2026/04/image.png
END:VEVENT
BEGIN:VEVENT
DTSTART;TZID=Europe/Paris:20260516T120000
DTEND;TZID=Europe/Paris:20260516T160000
DTSTAMP:20260422T121525
CREATED:20260415T193327Z
LAST-MODIFIED:20260415T193328Z
UID:1272-1778932800-1778947200@hgflangen.se
SUMMARY:Långendagen
DESCRIPTION:Datum & Tid: Lördag 16 maj\, kl 12.00 – 16.00 \n\n\n\nPlats: På gräsmattan vid Bokontoret \n\n\n\nMat & Dryck \n\n\n\nMusik och DJ \n\n\n\nTävlingar & Lekar: \n\n\n\n5-kamp med fina priser! \n\n\n\nTipspromenad för både vuxna och barn med fina priser! \n\n\n\nHoppborg för alla barn! \n\n\n\nKubb och andra roliga utomhusspel.
URL:https://hgflangen.se/evenemang/langendagen/
ATTACH;FMTTYPE=image/png:https://hgflangen.se/wp-content/uploads/2026/04/Langendagen-2026.png
END:VEVENT
BEGIN:VEVENT
DTSTART;TZID=Europe/Paris:20260809T123000
DTEND;TZID=Europe/Paris:20260809T190000
DTSTAMP:20260422T121525
CREATED:20260420T101057Z
LAST-MODIFIED:20260420T101058Z
UID:1277-1786278600-1786302000@hgflangen.se
SUMMARY:RESA TILL VALLARNAS FRILUFTSTEATER
DESCRIPTION:Söndag 9 augusti \n\n\n\nTider: \n\n\n\n\nKl 12:30: Avresa med chartrad buss från Långströmsgatan.\n\n\n\nKl 15:00: Föreställningen börjar i Falkenberg.\n\n\n\nKl 18:00: Hemresa från Falkenberg (preliminär tid).\n\n\n\n\nPris: 375:- per person (inkluderar bussresa och biljett). \n\n\n\n\n\n\n\nANMÄLAN: Sker i Hyresgästföreningens lokal på Långströmsgatan 2C. Tisdag 28/4 kl 18:00–20:00 (under Språkcafét). Obs! Anmälan är bindande och betalning sker på plats
URL:https://hgflangen.se/evenemang/resa-till-vallarnas-friluftsteater/
ATTACH;FMTTYPE=image/png:https://hgflangen.se/wp-content/uploads/2026/04/Vallarna-2026.png
END:VEVENT
END:VCALENDAR