BEGIN:VCALENDAR
VERSION:2.0
PRODID:-//Lokala Hyresgästföreningen Långströmsgatan - ECPv6.15.17.1//NONSGML v1.0//EN
CALSCALE:GREGORIAN
METHOD:PUBLISH
X-ORIGINAL-URL:https://hgflangen.se
X-WR-CALDESC:Händelser för Lokala Hyresgästföreningen Långströmsgatan
REFRESH-INTERVAL;VALUE=DURATION:PT1H
X-Robots-Tag:noindex
X-PUBLISHED-TTL:PT1H
BEGIN:VTIMEZONE
TZID:Europe/Paris
BEGIN:DAYLIGHT
TZOFFSETFROM:+0100
TZOFFSETTO:+0200
TZNAME:CEST
DTSTART:20250330T010000
END:DAYLIGHT
BEGIN:STANDARD
TZOFFSETFROM:+0200
TZOFFSETTO:+0100
TZNAME:CET
DTSTART:20251026T010000
END:STANDARD
BEGIN:DAYLIGHT
TZOFFSETFROM:+0100
TZOFFSETTO:+0200
TZNAME:CEST
DTSTART:20260329T010000
END:DAYLIGHT
BEGIN:STANDARD
TZOFFSETFROM:+0200
TZOFFSETTO:+0100
TZNAME:CET
DTSTART:20261025T010000
END:STANDARD
BEGIN:DAYLIGHT
TZOFFSETFROM:+0100
TZOFFSETTO:+0200
TZNAME:CEST
DTSTART:20270328T010000
END:DAYLIGHT
BEGIN:STANDARD
TZOFFSETFROM:+0200
TZOFFSETTO:+0100
TZNAME:CET
DTSTART:20271031T010000
END:STANDARD
END:VTIMEZONE
BEGIN:VEVENT
DTSTART;TZID=Europe/Paris:20260402T170000
DTEND;TZID=Europe/Paris:20260402T200000
DTSTAMP:20260421T204445
CREATED:20260324T154225Z
LAST-MODIFIED:20260325T111555Z
UID:1201-1775149200-1775160000@hgflangen.se
SUMMARY:Kallelse: Bomöte & Medlemsmöte på Långströmsgatan
DESCRIPTION:Välkommen att påverka ditt boende! 🏠 \n\n\n\nDen lokala Hyresgästföreningen bjuder in alla boende på Långströmsgatan till ett öppet Bomöte. Under mötet kommer vi att presentera verksamhetsplanen för det kommande året och diskutera hur vi kan göra vårt område ännu bättre. \n\n\n\nMötet avslutas sedan med ett Medlemsmöte som är exklusivt för dig som är medlem i Hyresgästföreningen. \n\n\n\nNär: Torsdag 2 april\, kl. 18:00 Var: Hyresgästföreningens lokal\, Långströmsgatan 2C \n\n\n\nAgenda: \n\n\n\n\nGenomgång av verksamhetsplan och budget.\n\n\n\nÖppet forum: Kom med förslag på framtida aktiviteter!\n\n\n\n\nVi bjuder på fika och ser fram emot en kväll med goda samtal och nya idéer. Hoppas vi ses där! \n\n\n\nVälkommen!
URL:https://hgflangen.se/evenemang/kallelse-bomote-medlemsmote-pa-langstromsgatan/
LOCATION:Hyresgästföreningens Lokal\, Långströmsgatan 2C\, Göteborg\, 41870\, Sweden
ATTACH;FMTTYPE=image/png:https://hgflangen.se/wp-content/uploads/2026/03/1-1.png
END:VEVENT
END:VCALENDAR