BEGIN:VCALENDAR
VERSION:2.0
PRODID:-//Lokala Hyresgästföreningen Långströmsgatan - ECPv6.15.17.1//NONSGML v1.0//EN
CALSCALE:GREGORIAN
METHOD:PUBLISH
X-ORIGINAL-URL:https://hgflangen.se
X-WR-CALDESC:Händelser för Lokala Hyresgästföreningen Långströmsgatan
REFRESH-INTERVAL;VALUE=DURATION:PT1H
X-Robots-Tag:noindex
X-PUBLISHED-TTL:PT1H
BEGIN:VTIMEZONE
TZID:Europe/Paris
BEGIN:DAYLIGHT
TZOFFSETFROM:+0100
TZOFFSETTO:+0200
TZNAME:CEST
DTSTART:20250330T010000
END:DAYLIGHT
BEGIN:STANDARD
TZOFFSETFROM:+0200
TZOFFSETTO:+0100
TZNAME:CET
DTSTART:20251026T010000
END:STANDARD
BEGIN:DAYLIGHT
TZOFFSETFROM:+0100
TZOFFSETTO:+0200
TZNAME:CEST
DTSTART:20260329T010000
END:DAYLIGHT
BEGIN:STANDARD
TZOFFSETFROM:+0200
TZOFFSETTO:+0100
TZNAME:CET
DTSTART:20261025T010000
END:STANDARD
BEGIN:DAYLIGHT
TZOFFSETFROM:+0100
TZOFFSETTO:+0200
TZNAME:CEST
DTSTART:20270328T010000
END:DAYLIGHT
BEGIN:STANDARD
TZOFFSETFROM:+0200
TZOFFSETTO:+0100
TZNAME:CET
DTSTART:20271031T010000
END:STANDARD
END:VTIMEZONE
BEGIN:VEVENT
DTSTART;TZID=Europe/Paris:20260329T110000
DTEND;TZID=Europe/Paris:20260329T180000
DTSTAMP:20260422T025440
CREATED:20260324T123118Z
LAST-MODIFIED:20260325T140709Z
UID:1192-1774782000-1774807200@hgflangen.se
SUMMARY:Påskpyssel & Våffeldagen
DESCRIPTION:Fira in våren med oss på Långströmsgatan! Vi bjuder in alla barn som bor i Balders hyresrätter (i alla åldrar!) till en fylld dag med kreativitet och godsaker. Det blir påskpyssel\, våfflor och en spännande äggjakt! \n\n\n\nNär: Söndag 29 Mars\, kl. 11.00 – 18.00 Var: Hyresgästföreningens lokal på Långströmsgatan 2C \n\n\n\nVad händer under dagen? \n\n\n\n\nKreativt Påskpyssel: Låt fantasin flöda med massor av pysselmaterial som vi bjuder på. Skapa dina egna påskdekorationer och ta hem ett fint minne.\n\n\n\nMumsiga Våfflor: Vi bjuder på nygräddade våfflor\, kaffe till de vuxna och påskmust och godis till barnen.\n\n\n\nSpännande Äggjakt: Häng med på vår äggjakt och få chansen att vinna ett roligt pris!\n\n\n\n\nDet blir en mysig dag full av skratt och gemenskap. Passa på att träffa dina grannar och låt barnen leka och pyssla tillsammans. \n\n\n\nOBS: Allt material för pyssel bjuder vi på\, men vi vill påminna om att inget oanvänt material får tas hem. \n\n\n\nVi ser fram emot att fira in påsken med er alla! \n\n\n\nVälkomna!
URL:https://hgflangen.se/evenemang/paskpyssel-vaffeldagen/
LOCATION:Hyresgästföreningens Lokal\, Långströmsgatan 2C\, Göteborg\, 41870\, Sweden
ATTACH;FMTTYPE=image/png:https://hgflangen.se/wp-content/uploads/2026/03/1.png
END:VEVENT
END:VCALENDAR